BEGIN:VCALENDAR
VERSION:2.0
PRODID:-//Little Munden Parish Coucil - ECPv6.15.18//NONSGML v1.0//EN
CALSCALE:GREGORIAN
METHOD:PUBLISH
X-WR-CALNAME:Little Munden Parish Coucil
X-ORIGINAL-URL:https://littlemundenpc.org.uk
X-WR-CALDESC:Events for Little Munden Parish Coucil
REFRESH-INTERVAL;VALUE=DURATION:PT1H
X-Robots-Tag:noindex
X-PUBLISHED-TTL:PT1H
BEGIN:VTIMEZONE
TZID:Europe/London
BEGIN:DAYLIGHT
TZOFFSETFROM:+0000
TZOFFSETTO:+0100
TZNAME:BST
DTSTART:20240331T010000
END:DAYLIGHT
BEGIN:STANDARD
TZOFFSETFROM:+0100
TZOFFSETTO:+0000
TZNAME:GMT
DTSTART:20241027T010000
END:STANDARD
BEGIN:DAYLIGHT
TZOFFSETFROM:+0000
TZOFFSETTO:+0100
TZNAME:BST
DTSTART:20250330T010000
END:DAYLIGHT
BEGIN:STANDARD
TZOFFSETFROM:+0100
TZOFFSETTO:+0000
TZNAME:GMT
DTSTART:20251026T010000
END:STANDARD
BEGIN:DAYLIGHT
TZOFFSETFROM:+0000
TZOFFSETTO:+0100
TZNAME:BST
DTSTART:20260329T010000
END:DAYLIGHT
BEGIN:STANDARD
TZOFFSETFROM:+0100
TZOFFSETTO:+0000
TZNAME:GMT
DTSTART:20261025T010000
END:STANDARD
BEGIN:DAYLIGHT
TZOFFSETFROM:+0000
TZOFFSETTO:+0100
TZNAME:BST
DTSTART:20270328T010000
END:DAYLIGHT
BEGIN:STANDARD
TZOFFSETFROM:+0100
TZOFFSETTO:+0000
TZNAME:GMT
DTSTART:20271031T010000
END:STANDARD
END:VTIMEZONE
BEGIN:VEVENT
DTSTART;TZID=Europe/London:20251009T080000
DTEND;TZID=Europe/London:20251009T170000
DTSTAMP:20260422T232642
CREATED:20251009T094059Z
LAST-MODIFIED:20251009T094059Z
UID:6065-1759996800-1760029200@littlemundenpc.org.uk
SUMMARY:Remembrance Service Sunday 9th November 2025
DESCRIPTION:  \n \nThis year we hope to see as many residents from our parish coming together to remember those who gave their lives in the hope for a better future for us all. The service will start shortly before  11am so arrival around 10:30am would be advisable.  This year we have applied for a diversion of Munden Road from 10:30 am to 11:30am to make it safer for those partaking in the service.
URL:https://littlemundenpc.org.uk/event/remembrance-service-sunday-9th-november-2025/
END:VEVENT
BEGIN:VEVENT
DTSTART;TZID=Europe/London:20251021T190000
DTEND;TZID=Europe/London:20251021T200000
DTSTAMP:20260422T232642
CREATED:20250212T233350Z
LAST-MODIFIED:20250212T233358Z
UID:5494-1761073200-1761076800@littlemundenpc.org.uk
SUMMARY:OCTOBER PARISH COUNCIL MEETING
DESCRIPTION:
URL:https://littlemundenpc.org.uk/event/october-parish-council-meeting/
LOCATION:Little Munden Memorial Hall\, United Kingdom
ORGANIZER;CN="Little Munden Parish Council":MAILTO:clerk@littlemundenpc.org.uk
END:VEVENT
BEGIN:VEVENT
DTSTART;TZID=Europe/London:20251118T190000
DTEND;TZID=Europe/London:20251118T190000
DTSTAMP:20260422T232642
CREATED:20260113T135413Z
LAST-MODIFIED:20260113T135413Z
UID:6345-1763492400-1763492400@littlemundenpc.org.uk
SUMMARY:Meeting 18/11/25
DESCRIPTION:This meeting will be held at Little Munden Village Hall\, all members of the public are welcome to attend. Please see the agenda for more details.
URL:https://littlemundenpc.org.uk/event/meeting-18-11-25/
LOCATION:Little Munden Memorial Hall\, United Kingdom
CATEGORIES:Parish Council Meetings
ORGANIZER;CN="Little Munden Parish Council":MAILTO:clerk@littlemundenpc.org.uk
END:VEVENT
BEGIN:VEVENT
DTSTART;TZID=Europe/London:20251118T190000
DTEND;TZID=Europe/London:20251118T190000
DTSTAMP:20260422T232642
CREATED:20260305T135201Z
LAST-MODIFIED:20260305T135201Z
UID:6592-1763492400-1763492400@littlemundenpc.org.uk
SUMMARY:November 25 Meeting
DESCRIPTION:This meeting will be held at Little Munden Village Hall\, all members of the public are welcome to attend. Please see the agenda for more details.
URL:https://littlemundenpc.org.uk/event/november-25-meeting/
LOCATION:Little Munden Memorial Hall\, United Kingdom
CATEGORIES:Parish Council Meetings
ORGANIZER;CN="Little Munden Parish Council":MAILTO:clerk@littlemundenpc.org.uk
END:VEVENT
BEGIN:VEVENT
DTSTART;TZID=Europe/London:20251118T190000
DTEND;TZID=Europe/London:20251118T200000
DTSTAMP:20260422T232642
CREATED:20250212T233523Z
LAST-MODIFIED:20250212T233529Z
UID:5497-1763492400-1763496000@littlemundenpc.org.uk
SUMMARY:NOVEMBER PARISH COUNCIL MEETING 2025
DESCRIPTION:
URL:https://littlemundenpc.org.uk/event/november-parish-council-meeting-2025/
LOCATION:Little Munden Memorial Hall\, United Kingdom
ORGANIZER;CN="Little Munden Parish Council":MAILTO:clerk@littlemundenpc.org.uk
END:VEVENT
BEGIN:VEVENT
DTSTART;TZID=Europe/London:20260217T193000
DTEND;TZID=Europe/London:20260217T193000
DTSTAMP:20260422T232642
CREATED:20260206T111453Z
LAST-MODIFIED:20260206T200611Z
UID:6469-1771356600-1771356600@littlemundenpc.org.uk
SUMMARY:Parish Council Meeting Documents available soon!
DESCRIPTION:
URL:https://littlemundenpc.org.uk/event/parish-council-meeting-2/
CATEGORIES:Parish Council Meetings
END:VEVENT
BEGIN:VEVENT
DTSTART;TZID=Europe/London:20260317T193000
DTEND;TZID=Europe/London:20260317T203000
DTSTAMP:20260422T232642
CREATED:20260213T135310Z
LAST-MODIFIED:20260213T135310Z
UID:6536-1773775800-1773779400@littlemundenpc.org.uk
SUMMARY:Parish Council Meeting
DESCRIPTION:Come along and join the councillors to gain an understanding of local issues and events affecting your community.  There are lots of things you can help with within your community.
URL:https://littlemundenpc.org.uk/event/parish-council-meeting-3/
END:VEVENT
BEGIN:VEVENT
DTSTART;TZID=Europe/London:20260421T190000
DTEND;TZID=Europe/London:20260421T193000
DTSTAMP:20260422T232642
CREATED:20260213T141126Z
LAST-MODIFIED:20260213T141130Z
UID:6560-1776798000-1776799800@littlemundenpc.org.uk
SUMMARY:Annual AGM Meeting
DESCRIPTION:Come along for a sum up of the annual accounts\, clubs\, village hall and the community allotment and much more.
URL:https://littlemundenpc.org.uk/event/annual-agm-meeting/
END:VEVENT
BEGIN:VEVENT
DTSTART;TZID=Europe/London:20260421T193000
DTEND;TZID=Europe/London:20260421T203000
DTSTAMP:20260422T232642
CREATED:20260213T135554Z
LAST-MODIFIED:20260213T135554Z
UID:6539-1776799800-1776803400@littlemundenpc.org.uk
SUMMARY:Parish Council Meeting
DESCRIPTION:Come along and find out what the council are dealing with in your community\, get involved have a say!
URL:https://littlemundenpc.org.uk/event/parish-council-meeting-5/
END:VEVENT
BEGIN:VEVENT
DTSTART;TZID=Europe/London:20260519T193000
DTEND;TZID=Europe/London:20260519T203000
DTSTAMP:20260422T232642
CREATED:20260213T135643Z
LAST-MODIFIED:20260213T135643Z
UID:6542-1779219000-1779222600@littlemundenpc.org.uk
SUMMARY:Parish Council Meeting
DESCRIPTION:Come along and find out what the council are dealing with in your community\, get involved have a say!
URL:https://littlemundenpc.org.uk/event/parish-council-meeting-6/
END:VEVENT
BEGIN:VEVENT
DTSTART;TZID=Europe/London:20260606T190000
DTEND;TZID=Europe/London:20260606T190000
DTSTAMP:20260422T232642
CREATED:20260213T141623Z
LAST-MODIFIED:20260304T122346Z
UID:6563-1780772400-1780772400@littlemundenpc.org.uk
SUMMARY:Big Umbrella Band in the Barn returns for another year!
DESCRIPTION:Come along for a night of fun arcing back to the 40’s and 50’s.  You can pre order tickets and a Vera Lynn\, Bite the Bullet or Sidecar cocktail or why not treat yourself to a Pie and licker or gravy or Loaded Nacho’s.  More details and how to book coming soon.  Dress for the era if you can to make the night a very special event.  See you all there.
URL:https://littlemundenpc.org.uk/event/big-umbrella-band-in-the-barn-returns-for-another-year/
END:VEVENT
BEGIN:VEVENT
DTSTART;TZID=Europe/London:20260616T193000
DTEND;TZID=Europe/London:20260616T203000
DTSTAMP:20260422T232642
CREATED:20260213T135904Z
LAST-MODIFIED:20260213T135912Z
UID:6545-1781638200-1781641800@littlemundenpc.org.uk
SUMMARY:Parish Council Meeting
DESCRIPTION:Come along and find out what the council are dealing with in your community\, get involved have a say!
URL:https://littlemundenpc.org.uk/event/parish-council-meeting-7/
END:VEVENT
BEGIN:VEVENT
DTSTART;TZID=Europe/London:20260721T193000
DTEND;TZID=Europe/London:20260721T203000
DTSTAMP:20260422T232642
CREATED:20260213T140111Z
LAST-MODIFIED:20260213T140115Z
UID:6548-1784662200-1784665800@littlemundenpc.org.uk
SUMMARY:Parish Council Meeting
DESCRIPTION:Come along and find out what the council are dealing with in your community\, get involved have a say!
URL:https://littlemundenpc.org.uk/event/parish-council-meeting-8/
END:VEVENT
BEGIN:VEVENT
DTSTART;TZID=Europe/London:20260915T193000
DTEND;TZID=Europe/London:20260915T203000
DTSTAMP:20260422T232642
CREATED:20260213T140204Z
LAST-MODIFIED:20260213T140221Z
UID:6551-1789500600-1789504200@littlemundenpc.org.uk
SUMMARY:Parish Council Meeting
DESCRIPTION:Come along and find out what the council are dealing with in your community\, get involved have a say!
URL:https://littlemundenpc.org.uk/event/parish-council-meeting-9/
END:VEVENT
BEGIN:VEVENT
DTSTART;TZID=Europe/London:20261020T193000
DTEND;TZID=Europe/London:20261020T203000
DTSTAMP:20260422T232642
CREATED:20260213T140258Z
LAST-MODIFIED:20260213T140304Z
UID:6554-1792524600-1792528200@littlemundenpc.org.uk
SUMMARY:Parish Council Meeting
DESCRIPTION:Come along and find out what the council are dealing with in your community\, get involved have a say!
URL:https://littlemundenpc.org.uk/event/parish-council-meeting-10/
END:VEVENT
BEGIN:VEVENT
DTSTART;TZID=Europe/London:20261117T193000
DTEND;TZID=Europe/London:20261117T203000
DTSTAMP:20260422T232642
CREATED:20260213T140456Z
LAST-MODIFIED:20260213T140456Z
UID:6557-1794943800-1794947400@littlemundenpc.org.uk
SUMMARY:Parish Council Meeting
DESCRIPTION:Come along and find out what the council are dealing with in your community\, get involved have a say!
URL:https://littlemundenpc.org.uk/event/parish-council-meeting-11/
END:VEVENT
END:VCALENDAR