BEGIN:VCALENDAR
VERSION:2.0
PRODID:-//Little Munden Parish Coucil - ECPv6.15.18//NONSGML v1.0//EN
CALSCALE:GREGORIAN
METHOD:PUBLISH
X-WR-CALNAME:Little Munden Parish Coucil
X-ORIGINAL-URL:https://littlemundenpc.org.uk
X-WR-CALDESC:Events for Little Munden Parish Coucil
REFRESH-INTERVAL;VALUE=DURATION:PT1H
X-Robots-Tag:noindex
X-PUBLISHED-TTL:PT1H
BEGIN:VTIMEZONE
TZID:Europe/London
BEGIN:DAYLIGHT
TZOFFSETFROM:+0000
TZOFFSETTO:+0100
TZNAME:BST
DTSTART:20210328T010000
END:DAYLIGHT
BEGIN:STANDARD
TZOFFSETFROM:+0100
TZOFFSETTO:+0000
TZNAME:GMT
DTSTART:20211031T010000
END:STANDARD
BEGIN:DAYLIGHT
TZOFFSETFROM:+0000
TZOFFSETTO:+0100
TZNAME:BST
DTSTART:20220327T010000
END:DAYLIGHT
BEGIN:STANDARD
TZOFFSETFROM:+0100
TZOFFSETTO:+0000
TZNAME:GMT
DTSTART:20221030T010000
END:STANDARD
BEGIN:DAYLIGHT
TZOFFSETFROM:+0000
TZOFFSETTO:+0100
TZNAME:BST
DTSTART:20230326T010000
END:DAYLIGHT
BEGIN:STANDARD
TZOFFSETFROM:+0100
TZOFFSETTO:+0000
TZNAME:GMT
DTSTART:20231029T010000
END:STANDARD
BEGIN:DAYLIGHT
TZOFFSETFROM:+0000
TZOFFSETTO:+0100
TZNAME:BST
DTSTART:20240331T010000
END:DAYLIGHT
BEGIN:STANDARD
TZOFFSETFROM:+0100
TZOFFSETTO:+0000
TZNAME:GMT
DTSTART:20241027T010000
END:STANDARD
BEGIN:DAYLIGHT
TZOFFSETFROM:+0000
TZOFFSETTO:+0100
TZNAME:BST
DTSTART:20250330T010000
END:DAYLIGHT
BEGIN:STANDARD
TZOFFSETFROM:+0100
TZOFFSETTO:+0000
TZNAME:GMT
DTSTART:20251026T010000
END:STANDARD
BEGIN:DAYLIGHT
TZOFFSETFROM:+0000
TZOFFSETTO:+0100
TZNAME:BST
DTSTART:20260329T010000
END:DAYLIGHT
BEGIN:STANDARD
TZOFFSETFROM:+0100
TZOFFSETTO:+0000
TZNAME:GMT
DTSTART:20261025T010000
END:STANDARD
END:VTIMEZONE
BEGIN:VEVENT
DTSTART;TZID=Europe/London:20250520T190000
DTEND;TZID=Europe/London:20250520T200000
DTSTAMP:20260422T233057
CREATED:20250212T231915Z
LAST-MODIFIED:20250212T231915Z
UID:5481-1747767600-1747771200@littlemundenpc.org.uk
SUMMARY:MAY 25 PARISH COUNCIL MEETING
DESCRIPTION:
URL:https://littlemundenpc.org.uk/event/may-25-parish-council-meeting/
LOCATION:Little Munden Memorial Hall\, United Kingdom
ORGANIZER;CN="Little Munden Parish Council":MAILTO:clerk@littlemundenpc.org.uk
END:VEVENT
BEGIN:VEVENT
DTSTART;TZID=Europe/London:20250508T180000
DTEND;TZID=Europe/London:20250508T200000
DTSTAMP:20260422T233057
CREATED:20250212T140656Z
LAST-MODIFIED:20250212T140706Z
UID:5440-1746727200-1746734400@littlemundenpc.org.uk
SUMMARY:VE DAY TO COMMERATE 80TH ANNIVERSARY OF THE END OF THE 2ND WORLD WARD
DESCRIPTION:VE DAY25
URL:https://littlemundenpc.org.uk/event/ve-day-to-commerate-80th-anniversary-of-the-end-of-the-2nd-world-ward/
LOCATION:Horses Meadow\, SG12 0LL
CATEGORIES:Local Events
ATTACH;FMTTYPE=image/jpeg:https://littlemundenpc.org.uk/wp-content/uploads/2025/02/VE-DAY25.jpeg
END:VEVENT
BEGIN:VEVENT
DTSTART;TZID=Europe/London:20250415T190000
DTEND;TZID=Europe/London:20250415T200000
DTSTAMP:20260422T233057
CREATED:20250212T231704Z
LAST-MODIFIED:20250212T231704Z
UID:5478-1744743600-1744747200@littlemundenpc.org.uk
SUMMARY:APRIL PARISH COUNCIL MEETING AND ANNUAL PARISH MEETING
DESCRIPTION:
URL:https://littlemundenpc.org.uk/event/april-parish-council-meeting-and-annual-parish-meeting/
LOCATION:Little Munden Memorial Hall\, United Kingdom
END:VEVENT
BEGIN:VEVENT
DTSTART;TZID=Europe/London:20250318T190000
DTEND;TZID=Europe/London:20250318T200000
DTSTAMP:20260422T233057
CREATED:20250212T233932Z
LAST-MODIFIED:20250212T233932Z
UID:5501-1742324400-1742328000@littlemundenpc.org.uk
SUMMARY:March 25 Parish Council Meeting
DESCRIPTION:
URL:https://littlemundenpc.org.uk/event/march-25-parish-council-meeting/
LOCATION:Little Munden Memorial Hall\, United Kingdom
ORGANIZER;CN="Little Munden Parish Council":MAILTO:clerk@littlemundenpc.org.uk
END:VEVENT
BEGIN:VEVENT
DTSTART;TZID=Europe/London:20250218T190000
DTEND;TZID=Europe/London:20250218T203000
DTSTAMP:20260422T233057
CREATED:20250212T142156Z
LAST-MODIFIED:20250212T142202Z
UID:5450-1739905200-1739910600@littlemundenpc.org.uk
SUMMARY:MONTHLY PARISH COUNCIL MEETING
DESCRIPTION:
URL:https://littlemundenpc.org.uk/event/monthly-parish-council-meeting-3/
LOCATION:Little Munden Memorial Hall\, United Kingdom
ORGANIZER;CN="Little Munden Parish Council":MAILTO:clerk@littlemundenpc.org.uk
END:VEVENT
BEGIN:VEVENT
DTSTART;TZID=Europe/London:20250218T183000
DTEND;TZID=Europe/London:20250218T190000
DTSTAMP:20260422T233057
CREATED:20250212T141656Z
LAST-MODIFIED:20250212T141738Z
UID:5446-1739903400-1739905200@littlemundenpc.org.uk
SUMMARY:ALLOTMENT MEETING
DESCRIPTION:Open Gardens Scheme24
URL:https://littlemundenpc.org.uk/event/allotment-meeting/
LOCATION:Little Munden Memorial Hall\, United Kingdom
ORGANIZER;CN="Little Munden Parish Council":MAILTO:clerk@littlemundenpc.org.uk
END:VEVENT
BEGIN:VEVENT
DTSTART;TZID=Europe/London:20240418T190000
DTEND;TZID=Europe/London:20240418T210000
DTSTAMP:20260422T233057
CREATED:20240214T112544Z
LAST-MODIFIED:20250212T141931Z
UID:4172-1713466800-1713474000@littlemundenpc.org.uk
SUMMARY:Monthly Parish Council Meeting
DESCRIPTION:
URL:https://littlemundenpc.org.uk/event/monthly-parish-council-meeting/
LOCATION:Little Munden Memorial Hall\, United Kingdom
ORGANIZER;CN="Little Munden Parish Council":MAILTO:clerk@littlemundenpc.org.uk
END:VEVENT
BEGIN:VEVENT
DTSTART;TZID=Europe/London:20240321T200000
DTEND;TZID=Europe/London:20240321T210000
DTSTAMP:20260422T233057
CREATED:20240214T112354Z
LAST-MODIFIED:20240214T112429Z
UID:4168-1711051200-1711054800@littlemundenpc.org.uk
SUMMARY:Monthly Parish Council Meeting
DESCRIPTION:
URL:https://littlemundenpc.org.uk/event/monthly-parish-council-meeting-open-to-member-of-the-pubic/
LOCATION:Little Munden Memorial Hall\, United Kingdom
ORGANIZER;CN="Little Munden Parish Council":MAILTO:clerk@littlemundenpc.org.uk
END:VEVENT
BEGIN:VEVENT
DTSTART;TZID=Europe/London:20240228T080000
DTEND;TZID=Europe/London:20240228T170000
DTSTAMP:20260422T233057
CREATED:20240228T162554Z
LAST-MODIFIED:20240228T162554Z
UID:4231-1709107200-1709139600@littlemundenpc.org.uk
SUMMARY:18th April 7.30 pm Parish Council Meeting and 8 pm APM
DESCRIPTION:
URL:https://littlemundenpc.org.uk/event/18th-april-7-30-pm-parish-council-meeting-and-8-pm-apm/
CATEGORIES:Parish Council Meetings
END:VEVENT
BEGIN:VEVENT
DTSTART;TZID=Europe/London:20240215T200000
DTEND;TZID=Europe/London:20240215T210000
DTSTAMP:20260422T233057
CREATED:20240214T120304Z
LAST-MODIFIED:20240214T120315Z
UID:4178-1708027200-1708030800@littlemundenpc.org.uk
SUMMARY:Monthly Parish Council Meeting
DESCRIPTION:
URL:https://littlemundenpc.org.uk/event/monthly-parish-council-meeting-2/
LOCATION:Little Munden Memorial Hall\, United Kingdom
ORGANIZER;CN="Little Munden Parish Council":MAILTO:clerk@littlemundenpc.org.uk
END:VEVENT
BEGIN:VEVENT
DTSTART;TZID=Europe/London:20221212T120000
DTEND;TZID=Europe/London:20221212T150000
DTSTAMP:20260422T233057
CREATED:20221011T105114Z
LAST-MODIFIED:20250212T225554Z
UID:2283-1670846400-1670857200@littlemundenpc.org.uk
SUMMARY:SENIOR CITIZENS CHRISTMAS LUNCH
DESCRIPTION:DATE TO BE ANNOUNCED LATER IN THE YEAR.  TO BE ANNOUNCED LATE SUMMER VIA THE NEWSLETTER
URL:https://littlemundenpc.org.uk/event/senior-citizens-christmas-lunch/
LOCATION:Little Munden Memorial Hall\, United Kingdom
CATEGORIES:Local Events
END:VEVENT
BEGIN:VEVENT
DTSTART;TZID=Europe/London:20221117T200000
DTEND;TZID=Europe/London:20221117T213000
DTSTAMP:20260422T233057
CREATED:20220902T103752Z
LAST-MODIFIED:20231020T181342Z
UID:2067-1668715200-1668720600@littlemundenpc.org.uk
SUMMARY:NEXT PARISH COUNCIL MEETING 16.11.23
DESCRIPTION: 
URL:https://littlemundenpc.org.uk/event/parish-council-meeting-4/
END:VEVENT
BEGIN:VEVENT
DTSTART;TZID=Europe/London:20221113T110000
DTEND;TZID=Europe/London:20221113T120000
DTSTAMP:20260422T233057
CREATED:20220902T104234Z
LAST-MODIFIED:20231007T103756Z
UID:2070-1668337200-1668340800@littlemundenpc.org.uk
SUMMARY:REMEMBRANCE SUNDAY 12/11/23
DESCRIPTION:WarMemorial
URL:https://littlemundenpc.org.uk/event/remembrance-sunday/
LOCATION:The War Memorial\, Munden Road\, Dane End\, Hertfordshire\, SG12
ORGANIZER;CN="Little Munden Parish Council":MAILTO:clerk@littlemundenpc.org.uk
END:VEVENT
BEGIN:VEVENT
DTSTART;TZID=Europe/London:20221009T130000
DTEND;TZID=Europe/London:20221009T150000
DTSTAMP:20260422T233057
CREATED:20220925T073903Z
LAST-MODIFIED:20231007T103900Z
UID:2215-1665320400-1665327600@littlemundenpc.org.uk
SUMMARY:CHILDREN IN NEED COUNTRYSIDE RAMBLE 19TH NOVEMBER 2023
DESCRIPTION:
URL:https://littlemundenpc.org.uk/event/children-in-need-countryside-ramble/
CATEGORIES:Local Events
END:VEVENT
BEGIN:VEVENT
DTSTART;TZID=Europe/London:20220526T200000
DTEND;TZID=Europe/London:20220526T200000
DTSTAMP:20260422T233057
CREATED:20220512T141751Z
LAST-MODIFIED:20220512T141751Z
UID:1640-1653595200-1653595200@littlemundenpc.org.uk
SUMMARY:Parish Council Meeting
DESCRIPTION:This meeting has been rescheduled from the 19th of May. This meeting will be held at Little Munden Village Hall\, all members of the public are welcome to attend. Please see the agenda for more details.
URL:https://littlemundenpc.org.uk/event/parish-council-meeting/
LOCATION:Little Munden Memorial Hall\, United Kingdom
CATEGORIES:Parish Council Meetings
ORGANIZER;CN="Little Munden Parish Council":MAILTO:clerk@littlemundenpc.org.uk
END:VEVENT
END:VCALENDAR